BEGIN:VCALENDAR
VERSION:2.0
PRODID:-//Snowflake Golf Course - ECPv6.15.20//NONSGML v1.0//EN
CALSCALE:GREGORIAN
METHOD:PUBLISH
X-WR-CALNAME:Snowflake Golf Course
X-ORIGINAL-URL:https://www.snowflakegolfcourse.com
X-WR-CALDESC:Events for Snowflake Golf Course
REFRESH-INTERVAL;VALUE=DURATION:PT1H
X-Robots-Tag:noindex
X-PUBLISHED-TTL:PT1H
BEGIN:VTIMEZONE
TZID:UTC
BEGIN:STANDARD
TZOFFSETFROM:+0000
TZOFFSETTO:+0000
TZNAME:UTC
DTSTART:20210101T000000
END:STANDARD
END:VTIMEZONE
BEGIN:VEVENT
DTSTART;TZID=UTC:20220825T090000
DTEND;TZID=UTC:20220825T130000
DTSTAMP:20260423T013256
CREATED:20220729T213332Z
LAST-MODIFIED:20220729T213332Z
UID:3747-1661418000-1661432400@www.snowflakegolfcourse.com
SUMMARY:Thursday Men's League: members only. Weekly games vary. $10.00 entry plus optional $1.00 chip-in pot\, plus greens and cart fees. 9:00 am\, 18 holes\, shotgun start.
DESCRIPTION:
URL:https://www.snowflakegolfcourse.com/event/thursday-mens-league-members-only-weekly-games-vary-10-00-entry-plus-optional-1-00-chip-in-pot-plus-greens-and-cart-fees-900-am-18-holes-shotgun-start-2-2-2/
END:VEVENT
BEGIN:VEVENT
DTSTART;TZID=UTC:20220825T080000
DTEND;TZID=UTC:20220825T120000
DTSTAMP:20260423T013256
CREATED:20220729T212507Z
LAST-MODIFIED:20220729T212507Z
UID:3737-1661414400-1661428800@www.snowflakegolfcourse.com
SUMMARY:Snowflake Social Golf Club: mixed league. Weekly games vary. $5.00 entry plus greens and cart fees. 8:00 am\, staggered start.
DESCRIPTION:
URL:https://www.snowflakegolfcourse.com/event/snowflake-social-golf-club-mixed-league-weekly-games-vary-5-00-entry-plus-greens-and-cart-fees-800-am-staggered-start-2-2-2/
END:VEVENT
BEGIN:VEVENT
DTSTART;TZID=UTC:20220824T130000
DTEND;TZID=UTC:20220824T150000
DTSTAMP:20260423T013256
CREATED:20220729T211929Z
LAST-MODIFIED:20220729T211929Z
UID:3727-1661346000-1661353200@www.snowflakegolfcourse.com
SUMMARY:Walking Wednesday: open to members\, non-members\, male and female. Low Gross/Low Net/Skins. $5.00 entry plus green and cart fees. 1:00 pm\, 9 holes\, staggered start. Must carry clubs or use pull cart.
DESCRIPTION:
URL:https://www.snowflakegolfcourse.com/event/walking-wednesday-open-to-members-non-members-male-and-female-low-gross-low-net-skins-5-00-entry-plus-green-and-cart-fees-100-pm-9-holes-staggered-start-must-carry-clubs-or-use-pull-cart-15-2-2-2/
END:VEVENT
BEGIN:VEVENT
DTSTART;TZID=UTC:20220822T090000
DTEND;TZID=UTC:20220822T130000
DTSTAMP:20260423T013256
CREATED:20220729T211041Z
LAST-MODIFIED:20220729T211041Z
UID:3717-1661158800-1661173200@www.snowflakegolfcourse.com
SUMMARY:Casual Monday: open to members\, non-members\, male and female. Low Gross/Low Net/Skins. $5.00 entry plus green and cart fees. 9:00 am\, 18 holes\, shotgun start.
DESCRIPTION:
URL:https://www.snowflakegolfcourse.com/event/casual-monday-open-to-members-non-members-male-and-female-low-gross-low-net-skins-5-00-entry-plus-green-and-cart-fees-900-am-18-holes-shotgun-start-7-2-2-2/
END:VEVENT
BEGIN:VEVENT
DTSTART;TZID=UTC:20220821T080000
DTEND;TZID=UTC:20220821T120000
DTSTAMP:20260423T013256
CREATED:20220729T213732Z
LAST-MODIFIED:20220729T213732Z
UID:3753-1661068800-1661083200@www.snowflakegolfcourse.com
SUMMARY:Snowflake Social Golf Club: mixed league. Weekly games vary. $10.00 entry plus greens and cart fees. 8:00 am\,18 holes\, staggered start.
DESCRIPTION:
URL:https://www.snowflakegolfcourse.com/event/snowflake-social-golf-club-mixed-league-weekly-games-vary-10-00-entry-plus-greens-and-cart-fees-800-am18-holes-staggered-start-2-2/
END:VEVENT
BEGIN:VEVENT
DTSTART;TZID=UTC:20220818T090000
DTEND;TZID=UTC:20220818T130000
DTSTAMP:20260423T013256
CREATED:20220729T213308Z
LAST-MODIFIED:20220729T213308Z
UID:3745-1660813200-1660827600@www.snowflakegolfcourse.com
SUMMARY:Thursday Men's League: members only. Weekly games vary. $10.00 entry plus optional $1.00 chip-in pot\, plus greens and cart fees. 9:00 am\, 18 holes\, shotgun start.
DESCRIPTION:
URL:https://www.snowflakegolfcourse.com/event/thursday-mens-league-members-only-weekly-games-vary-10-00-entry-plus-optional-1-00-chip-in-pot-plus-greens-and-cart-fees-900-am-18-holes-shotgun-start-2-2/
END:VEVENT
BEGIN:VEVENT
DTSTART;TZID=UTC:20220818T080000
DTEND;TZID=UTC:20220818T120000
DTSTAMP:20260423T013256
CREATED:20220729T212427Z
LAST-MODIFIED:20220729T212427Z
UID:3735-1660809600-1660824000@www.snowflakegolfcourse.com
SUMMARY:Snowflake Social Golf Club: mixed league. Weekly games vary. $5.00 entry plus greens and cart fees. 8:00 am\, staggered start.
DESCRIPTION:
URL:https://www.snowflakegolfcourse.com/event/snowflake-social-golf-club-mixed-league-weekly-games-vary-5-00-entry-plus-greens-and-cart-fees-800-am-staggered-start-2-2/
END:VEVENT
BEGIN:VEVENT
DTSTART;TZID=UTC:20220817T130000
DTEND;TZID=UTC:20220817T150000
DTSTAMP:20260423T013256
CREATED:20220729T211905Z
LAST-MODIFIED:20220729T211905Z
UID:3725-1660741200-1660748400@www.snowflakegolfcourse.com
SUMMARY:Walking Wednesday: open to members\, non-members\, male and female. Low Gross/Low Net/Skins. $5.00 entry plus green and cart fees. 1:00 pm\, 9 holes\, staggered start. Must carry clubs or use pull cart.
DESCRIPTION:
URL:https://www.snowflakegolfcourse.com/event/walking-wednesday-open-to-members-non-members-male-and-female-low-gross-low-net-skins-5-00-entry-plus-green-and-cart-fees-100-pm-9-holes-staggered-start-must-carry-clubs-or-use-pull-cart-15-2-2/
END:VEVENT
BEGIN:VEVENT
DTSTART;TZID=UTC:20220815T090000
DTEND;TZID=UTC:20220815T130000
DTSTAMP:20260423T013256
CREATED:20220729T211014Z
LAST-MODIFIED:20220729T211014Z
UID:3715-1660554000-1660568400@www.snowflakegolfcourse.com
SUMMARY:Casual Monday: open to members\, non-members\, male and female. Low Gross/Low Net/Skins. $5.00 entry plus green and cart fees. 9:00 am\, 18 holes\, shotgun start.
DESCRIPTION:
URL:https://www.snowflakegolfcourse.com/event/casual-monday-open-to-members-non-members-male-and-female-low-gross-low-net-skins-5-00-entry-plus-green-and-cart-fees-900-am-18-holes-shotgun-start-7-2-2/
END:VEVENT
BEGIN:VEVENT
DTSTART;TZID=UTC:20220814T080000
DTEND;TZID=UTC:20220814T120000
DTSTAMP:20260423T013256
CREATED:20220729T213659Z
LAST-MODIFIED:20220729T213659Z
UID:3751-1660464000-1660478400@www.snowflakegolfcourse.com
SUMMARY:Snowflake Social Golf Club: mixed league. Weekly games vary. $10.00 entry plus greens and cart fees. 8:00 am\,18 holes\, staggered start.
DESCRIPTION:
URL:https://www.snowflakegolfcourse.com/event/snowflake-social-golf-club-mixed-league-weekly-games-vary-10-00-entry-plus-greens-and-cart-fees-800-am18-holes-staggered-start-2/
END:VEVENT
BEGIN:VEVENT
DTSTART;TZID=UTC:20220811T090000
DTEND;TZID=UTC:20220811T130000
DTSTAMP:20260423T013256
CREATED:20220729T212900Z
LAST-MODIFIED:20220729T212900Z
UID:3743-1660208400-1660222800@www.snowflakegolfcourse.com
SUMMARY:Thursday Men's League: members only. Weekly games vary. $10.00 entry plus optional $1.00 chip-in pot\, plus greens and cart fees. 9:00 am\, 18 holes\, shotgun start.
DESCRIPTION:
URL:https://www.snowflakegolfcourse.com/event/thursday-mens-league-members-only-weekly-games-vary-10-00-entry-plus-optional-1-00-chip-in-pot-plus-greens-and-cart-fees-900-am-18-holes-shotgun-start-2/
END:VEVENT
BEGIN:VEVENT
DTSTART;TZID=UTC:20220811T080000
DTEND;TZID=UTC:20220811T120000
DTSTAMP:20260423T013256
CREATED:20220729T212343Z
LAST-MODIFIED:20220729T212343Z
UID:3733-1660204800-1660219200@www.snowflakegolfcourse.com
SUMMARY:Snowflake Social Golf Club: mixed league. Weekly games vary. $5.00 entry plus greens and cart fees. 8:00 am\, staggered start.
DESCRIPTION:
URL:https://www.snowflakegolfcourse.com/event/snowflake-social-golf-club-mixed-league-weekly-games-vary-5-00-entry-plus-greens-and-cart-fees-800-am-staggered-start-2/
END:VEVENT
BEGIN:VEVENT
DTSTART;TZID=UTC:20220810T130000
DTEND;TZID=UTC:20220810T150000
DTSTAMP:20260423T013256
CREATED:20220729T211835Z
LAST-MODIFIED:20220729T211835Z
UID:3723-1660136400-1660143600@www.snowflakegolfcourse.com
SUMMARY:Walking Wednesday: open to members\, non-members\, male and female. Low Gross/Low Net/Skins. $5.00 entry plus green and cart fees. 1:00 pm\, 9 holes\, staggered start. Must carry clubs or use pull cart.
DESCRIPTION:
URL:https://www.snowflakegolfcourse.com/event/walking-wednesday-open-to-members-non-members-male-and-female-low-gross-low-net-skins-5-00-entry-plus-green-and-cart-fees-100-pm-9-holes-staggered-start-must-carry-clubs-or-use-pull-cart-15-2/
END:VEVENT
BEGIN:VEVENT
DTSTART;TZID=UTC:20220808T090000
DTEND;TZID=UTC:20220808T130000
DTSTAMP:20260423T013256
CREATED:20220729T210950Z
LAST-MODIFIED:20220729T210950Z
UID:3713-1659949200-1659963600@www.snowflakegolfcourse.com
SUMMARY:Casual Monday: open to members\, non-members\, male and female. Low Gross/Low Net/Skins. $5.00 entry plus green and cart fees. 9:00 am\, 18 holes\, shotgun start.
DESCRIPTION:
URL:https://www.snowflakegolfcourse.com/event/casual-monday-open-to-members-non-members-male-and-female-low-gross-low-net-skins-5-00-entry-plus-green-and-cart-fees-900-am-18-holes-shotgun-start-7-2/
END:VEVENT
BEGIN:VEVENT
DTSTART;TZID=UTC:20220807T080000
DTEND;TZID=UTC:20220807T170000
DTSTAMP:20260423T013256
CREATED:20220729T213615Z
LAST-MODIFIED:20220729T213615Z
UID:3749-1659859200-1659891600@www.snowflakegolfcourse.com
SUMMARY:Snowflake Social Golf Club: mixed league. Weekly games vary. $10.00 entry plus greens and cart fees. 8:00 am\,18 holes\, staggered start.
DESCRIPTION:
URL:https://www.snowflakegolfcourse.com/event/snowflake-social-golf-club-mixed-league-weekly-games-vary-10-00-entry-plus-greens-and-cart-fees-800-am18-holes-staggered-start/
END:VEVENT
BEGIN:VEVENT
DTSTART;TZID=UTC:20220806T080000
DTEND;TZID=UTC:20220806T150000
DTSTAMP:20260423T013256
CREATED:20220730T014043Z
LAST-MODIFIED:20220730T014043Z
UID:3757-1659772800-1659798000@www.snowflakegolfcourse.com
SUMMARY:Erin's Company Outing. 9:00am shotgun start.
DESCRIPTION:
URL:https://www.snowflakegolfcourse.com/event/erins-company-outing-900am-shotgun-start/
END:VEVENT
BEGIN:VEVENT
DTSTART;TZID=UTC:20220804T090000
DTEND;TZID=UTC:20220804T130000
DTSTAMP:20260423T013256
CREATED:20220729T212836Z
LAST-MODIFIED:20220729T212836Z
UID:3741-1659603600-1659618000@www.snowflakegolfcourse.com
SUMMARY:Thursday Men's League: members only. Weekly games vary. $10.00 entry plus optional $1.00 chip-in pot\, plus greens and cart fees. 9:00 am\, 18 holes\, shotgun start.
DESCRIPTION:
URL:https://www.snowflakegolfcourse.com/event/thursday-mens-league-members-only-weekly-games-vary-10-00-entry-plus-optional-1-00-chip-in-pot-plus-greens-and-cart-fees-900-am-18-holes-shotgun-start/
END:VEVENT
BEGIN:VEVENT
DTSTART;TZID=UTC:20220804T080000
DTEND;TZID=UTC:20220804T170000
DTSTAMP:20260423T013256
CREATED:20220729T212237Z
LAST-MODIFIED:20220729T212237Z
UID:3731-1659600000-1659632400@www.snowflakegolfcourse.com
SUMMARY:Snowflake Social Golf Club: mixed league. Weekly games vary. $5.00 entry plus greens and cart fees. 8:00 am\, staggered start.
DESCRIPTION:
URL:https://www.snowflakegolfcourse.com/event/snowflake-social-golf-club-mixed-league-weekly-games-vary-5-00-entry-plus-greens-and-cart-fees-800-am-staggered-start/
END:VEVENT
BEGIN:VEVENT
DTSTART;TZID=UTC:20220803T130000
DTEND;TZID=UTC:20220803T150000
DTSTAMP:20260423T013256
CREATED:20220729T211804Z
LAST-MODIFIED:20220729T211804Z
UID:3721-1659531600-1659538800@www.snowflakegolfcourse.com
SUMMARY:Walking Wednesday: open to members\, non-members\, male and female. Low Gross/Low Net/Skins. $5.00 entry plus green and cart fees. 1:00 pm\, 9 holes\, staggered start. Must carry clubs or use pull cart.
DESCRIPTION:
URL:https://www.snowflakegolfcourse.com/event/walking-wednesday-open-to-members-non-members-male-and-female-low-gross-low-net-skins-5-00-entry-plus-green-and-cart-fees-100-pm-9-holes-staggered-start-must-carry-clubs-or-use-pull-cart-15/
END:VEVENT
BEGIN:VEVENT
DTSTART;TZID=UTC:20220801T090000
DTEND;TZID=UTC:20220801T130000
DTSTAMP:20260423T013256
CREATED:20220729T210917Z
LAST-MODIFIED:20220729T210917Z
UID:3711-1659344400-1659358800@www.snowflakegolfcourse.com
SUMMARY:Casual Monday: open to members\, non-members\, male and female. Low Gross/Low Net/Skins. $5.00 entry plus green and cart fees. 9:00 am\, 18 holes\, shotgun start.
DESCRIPTION:
URL:https://www.snowflakegolfcourse.com/event/casual-monday-open-to-members-non-members-male-and-female-low-gross-low-net-skins-5-00-entry-plus-green-and-cart-fees-900-am-18-holes-shotgun-start-7/
END:VEVENT
BEGIN:VEVENT
DTSTART;TZID=UTC:20220731T100000
DTEND;TZID=UTC:20220731T140000
DTSTAMP:20260423T013256
CREATED:20220609T015605Z
LAST-MODIFIED:20220609T015605Z
UID:3705-1659261600-1659276000@www.snowflakegolfcourse.com
SUMMARY:Snowflake Social Golf Club: mixed league. $5.00 entry plus green and cart fees. Weekly games vary. 10:00 am\, 18 holes\, staggered start. Accepting new members\, inquire at pro-shop.
DESCRIPTION:
URL:https://www.snowflakegolfcourse.com/event/snowflake-social-golf-club-mixed-league-5-00-entry-plus-green-and-cart-fees-weekly-games-vary-1000-am-18-holes-staggered-start-accepting-new-members-inquire-at-pro-shop-2-2-2-2/
END:VEVENT
BEGIN:VEVENT
DTSTART;TZID=UTC:20220728T100000
DTEND;TZID=UTC:20220728T140000
DTSTAMP:20260423T013256
CREATED:20220609T015436Z
LAST-MODIFIED:20220609T015436Z
UID:3699-1659002400-1659016800@www.snowflakegolfcourse.com
SUMMARY:Snowflake Social Golf Club: mixed league. $5.00 entry plus green and cart fees. Weekly games vary. 10:00 am\, 18 holes\, staggered start. Accepting new members\, inquire at pro-shop.
DESCRIPTION:
URL:https://www.snowflakegolfcourse.com/event/snowflake-social-golf-club-mixed-league-5-00-entry-plus-green-and-cart-fees-weekly-games-vary-1000-am-18-holes-staggered-start-accepting-new-members-inquire-at-pro-shop-2/
END:VEVENT
BEGIN:VEVENT
DTSTART;TZID=UTC:20220728T090000
DTEND;TZID=UTC:20220728T130000
DTSTAMP:20260423T013256
CREATED:20220609T010556Z
LAST-MODIFIED:20220609T010556Z
UID:3683-1658998800-1659013200@www.snowflakegolfcourse.com
SUMMARY:Men's League: members only. Weekly games vary. $10.00 entry plus green and cart fees\, plus $1.00 optional chip-in pot. 9:00 am\, 18 holes\, shotgun start.
DESCRIPTION:
URL:https://www.snowflakegolfcourse.com/event/men-league-members-only-weekly-games-vary-10-00-entry-plus-green-and-cart-fees-plus-1-00-optional-chip-in-pot-900-am-18-holes-shotgun-start-2-2-2/
END:VEVENT
BEGIN:VEVENT
DTSTART;TZID=UTC:20220727T130000
DTEND;TZID=UTC:20220727T150000
DTSTAMP:20260423T013256
CREATED:20220609T005756Z
LAST-MODIFIED:20220609T005756Z
UID:3674-1658926800-1658934000@www.snowflakegolfcourse.com
SUMMARY:Walking Wednesday: open to members\, non-members\, male and female. Low Gross/Low Net/Skins. $5.00 entry plus green and cart fees. 1:00 pm\, 9 holes\, staggered start. Must carry clubs or use pull cart.
DESCRIPTION:
URL:https://www.snowflakegolfcourse.com/event/walking-wednesday-open-to-members-non-members-male-and-female-low-gross-low-net-skins-5-00-entry-plus-green-and-cart-fees-100-pm-9-holes-staggered-start-must-carry-clubs-or-use-pull-cart-14-2-2-2/
END:VEVENT
BEGIN:VEVENT
DTSTART;TZID=UTC:20220725T090000
DTEND;TZID=UTC:20220725T130000
DTSTAMP:20260423T013256
CREATED:20220609T005439Z
LAST-MODIFIED:20220609T005439Z
UID:3666-1658739600-1658754000@www.snowflakegolfcourse.com
SUMMARY:Casual Monday: open to members\, non-members\, male and female. Low Gross/Low Net/Skins. $5.00 entry plus green and cart fees. 9:00 am\, 18 holes\, shotgun start.
DESCRIPTION:
URL:https://www.snowflakegolfcourse.com/event/casual-monday-open-to-members-non-members-male-and-female-low-gross-low-net-skins-5-00-entry-plus-green-and-cart-fees-900-am-18-holes-shotgun-start-6-2-2-2/
END:VEVENT
BEGIN:VEVENT
DTSTART;TZID=UTC:20220724T100000
DTEND;TZID=UTC:20220724T140000
DTSTAMP:20260423T013256
CREATED:20220609T015538Z
LAST-MODIFIED:20220609T015538Z
UID:3703-1658656800-1658671200@www.snowflakegolfcourse.com
SUMMARY:Snowflake Social Golf Club: mixed league. $5.00 entry plus green and cart fees. Weekly games vary. 10:00 am\, 18 holes\, staggered start. Accepting new members\, inquire at pro-shop.
DESCRIPTION:
URL:https://www.snowflakegolfcourse.com/event/snowflake-social-golf-club-mixed-league-5-00-entry-plus-green-and-cart-fees-weekly-games-vary-1000-am-18-holes-staggered-start-accepting-new-members-inquire-at-pro-shop-2-2-2/
END:VEVENT
BEGIN:VEVENT
DTSTART;TZID=UTC:20220723T070000
DTEND;TZID=UTC:20220723T130000
DTSTAMP:20260423T013256
CREATED:20220609T005023Z
LAST-MODIFIED:20220609T005023Z
UID:3658-1658559600-1658581200@www.snowflakegolfcourse.com
SUMMARY:Eagles\, 3 Club Tournament\, Contact Dave Rapp at 480-239-8289\, 9 holes.
DESCRIPTION:
URL:https://www.snowflakegolfcourse.com/event/eagles-3-club-tournament-contact-dave-rapp-at-480-239-8289-9-holes/
END:VEVENT
BEGIN:VEVENT
DTSTART;TZID=UTC:20220722T080000
DTEND;TZID=UTC:20220722T140000
DTSTAMP:20260423T013256
CREATED:20220528T003847Z
LAST-MODIFIED:20220722T052926Z
UID:3596-1658476800-1658498400@www.snowflakegolfcourse.com
SUMMARY:Snowflake Pioneer Days Tournament
DESCRIPTION:SNOWFLAKE PIONEER DAY GOLF TOURNAMENT\n3 PERSON SCRAMBLE\nFRIDAY JULY 22\, 2022 CHECK IN STARTS AT 8:00 AM\nTEE OFF AT 9:00 AM\nREGISTRATION FEE $195\nINCLUDES GREEN FEES\, LUNCH AND SWAG\nPRIZES WILL BE AWARDED TO THE WINNING TEAM IN EACH FLIGHT \nTOURNAMENT CONTACT:   SHAYLI WILLIAMS  928-536-7103 EXT 227   swilliams@snowflakeaz.gov
URL:https://www.snowflakegolfcourse.com/event/snowflake-pioneer-days-tournament/
LOCATION:Snowflake Golf Course\, 90 N. Country Club Ln\, Snowflake\, AZ\, 85937\, United States
ORGANIZER;CN="Snowflake Golf Course":MAILTO:swilliams@snowflakeaz.gov
END:VEVENT
BEGIN:VEVENT
DTSTART;TZID=UTC:20220721T100000
DTEND;TZID=UTC:20220721T140000
DTSTAMP:20260423T013256
CREATED:20220609T011038Z
LAST-MODIFIED:20220609T011038Z
UID:3689-1658397600-1658412000@www.snowflakegolfcourse.com
SUMMARY:Snowflake Social Golf Club: mixed league. Weekly games vary. $5.00 entry plus green and cart fees. 10:00 am\, 18 holes\, staggered start. Accepting new members\, inquire at pro-shop.
DESCRIPTION:
URL:https://www.snowflakegolfcourse.com/event/snowflake-social-golf-club-mixed-league-weekly-games-vary-5-00-entry-plus-green-and-cart-fees-1000-am-18-holes-staggered-start-accepting-new-members-inquire-at-pro-shop-3-2-2/
END:VEVENT
BEGIN:VEVENT
DTSTART;TZID=UTC:20220721T090000
DTEND;TZID=UTC:20220721T130000
DTSTAMP:20260423T013256
CREATED:20220609T010529Z
LAST-MODIFIED:20220609T010529Z
UID:3681-1658394000-1658408400@www.snowflakegolfcourse.com
SUMMARY:Men's League: members only. Weekly games vary. $10.00 entry plus green and cart fees\, plus $1.00 optional chip-in pot. 9:00 am\, 18 holes\, shotgun start.
DESCRIPTION:
URL:https://www.snowflakegolfcourse.com/event/men-league-members-only-weekly-games-vary-10-00-entry-plus-green-and-cart-fees-plus-1-00-optional-chip-in-pot-900-am-18-holes-shotgun-start-2-2/
END:VEVENT
END:VCALENDAR